BEGIN:VCALENDAR
VERSION:2.0
PRODID:https://www.verkehrsrundschau.de/events/online-seminar-gefahrgut-sprechstunde-3749822
METHOD:PUBLISH
BEGIN:VEVENT
UID: 3749822_3749821
SUMMARY:Online-Seminar: Gefahrgut-Sprechstunde
DESCRIPTION:In diesem Online-Seminar erfahren Sie, wie andere Gefahrgutbeauftragte eine bestimmte Vorschrift in der Praxis umsetzen und welche Erfahrungen sie mit der Anwendung neuer Regelungen gesammelt haben.
CLASS:PUBLIC
DTSTART:20260609T000000
DTEND:20260609T000000
DTSTAMP:20260609T000000
LOCATION:  Online
URL:https://www.verkehrsrundschau.de/events/online-seminar-gefahrgut-sprechstunde-3749822
END:VEVENT
END:VCALENDAR
