BEGIN:VCALENDAR
VERSION:2.0
PRODID:https://www.verkehrsrundschau.de/events/fachkonferenz-seminare-lithiumbatterien-2026-3743763
METHOD:PUBLISH
BEGIN:VEVENT
UID: 3743763_3743762
SUMMARY:Fachkonferenz & Seminare Lithiumbatterien 2026
DESCRIPTION:Die 19. Fachkonferenz Lithiumbatterien 2026 ist der Branchentreff für Transport, Lagerung, Brandschutz & Recycling von Lithium- und Natriumbatterien – mit Seminaren, Networking und Branchen-Ausstellung.
CLASS:PUBLIC
DTSTART:20260126T000000
DTEND:20260129T000000
DTSTAMP:20260126T000000
LOCATION: 37079 Göttingen
URL:https://www.verkehrsrundschau.de/events/fachkonferenz-seminare-lithiumbatterien-2026-3743763
END:VEVENT
END:VCALENDAR
